BEGIN:VCALENDAR
VERSION:2.0
PRODID:-//wp-events-plugin.com//7.0.4//EN
BEGIN:VEVENT
UID:224@gaiety.in
DTSTART:20250205T223000Z
DTEND:20250206T130000Z
DTSTAMP:20250214T055014Z
URL:https://gaiety.in/app/events/kathakar-international-storytellers-festi
 val-shimla-by-rachna-bist-nivesh/
SUMMARY:Kathakar International Storytellers Festival – Shimla by Rachna B
 ist (Nivesh)
DESCRIPTION:🎨✨ You’re Invited! ✨🎨\nInvitation: Kathakar Interna
 tional Storytellers Festival – Shimla
ATTACH;FMTTYPE=image/jpeg:https://i0.wp.com/gaiety.in/app/wp-content/uploa
 ds/2025/02/WhatsApp-Image-2025-02-04-at-3.54.29-PM-e1738665047661.jpeg?fit
 =500%2C500&ssl=1
CATEGORIES:Activity @ Old Theatre
LOCATION:Old Gothic Theater\, Old Gothic Theater-Gaiety Heritage Cultural C
 omplex Shimla\, Shimla\, India
X-APPLE-STRUCTURED-LOCATION;VALUE=URI;X-ADDRESS=Old Gothic Theater-Gaiety H
 eritage Cultural Complex Shimla\, Shimla\, India;X-APPLE-RADIUS=100;X-TITL
 E=Old Gothic Theater:geo:0,0
END:VEVENT
END:VCALENDAR