BEGIN:VCALENDAR
VERSION:2.0
PRODID:-//wp-events-plugin.com//7.0.4//EN
BEGIN:VEVENT
UID:233@gaiety.in
DTSTART:20250309T083000Z
DTEND:20250309T113000Z
DTSTAMP:20250319T072657Z
URL:https://gaiety.in/app/events/keekli-charitable-trust-3/
SUMMARY:Keekli Charitable Trust
DESCRIPTION:📖 साहित्य प्रेमियों के 
 लिए एक विशेष आमंत्रण! 📖
ATTACH;FMTTYPE=image/jpeg:https://i0.wp.com/gaiety.in/app/wp-content/uploa
 ds/2025/02/WhatsApp-Image-2025-02-24-at-2.32.09-PM-e1740467159622.jpeg?fit
 =697%2C500&ssl=1
CATEGORIES:Activity @ Conference Hall
LOCATION:Conference Hall\, Conference Hall - Gaiety Heritage Cultural Compl
 ex\, Shimla\, India
X-APPLE-STRUCTURED-LOCATION;VALUE=URI;X-ADDRESS=Conference Hall - Gaiety He
 ritage Cultural Complex\, Shimla\, India;X-APPLE-RADIUS=100;X-TITLE=Confer
 ence Hall:geo:0,0
END:VEVENT
END:VCALENDAR