BEGIN:VCALENDAR
VERSION:2.0
PRODID:-//wp-events-plugin.com//7.0.4//EN
BEGIN:VEVENT
UID:253@gaiety.in
DTSTART:20250415T213000Z
DTEND:20250415T233000Z
DTSTAMP:20250515T082900Z
URL:https://gaiety.in/app/events/keekli-charitable-trust-4/
SUMMARY:Keekli Charitable Trust
DESCRIPTION:🌟 You’re Cordially Invited! 🌟
ATTACH;FMTTYPE=image/jpeg:https://i0.wp.com/gaiety.in/app/wp-content/uploa
 ds/2024/12/2-e1733135141395.jpeg?fit=500%2C457&ssl=1
CATEGORIES:Activity @ Conference Hall
LOCATION:Conference Hall\, Conference Hall - Gaiety Heritage Cultural Compl
 ex\, Shimla\, India
X-APPLE-STRUCTURED-LOCATION;VALUE=URI;X-ADDRESS=Conference Hall - Gaiety He
 ritage Cultural Complex\, Shimla\, India;X-APPLE-RADIUS=100;X-TITLE=Confer
 ence Hall:geo:0,0
END:VEVENT
END:VCALENDAR