BEGIN:VCALENDAR
VERSION:2.0
PRODID:-//wp-events-plugin.com//7.0.4//EN
BEGIN:VEVENT
UID:303@gaiety.in
DTSTART:20250705T053000Z
DTEND:20250705T093000Z
DTSTAMP:20250709T045223Z
URL:https://gaiety.in/app/events/keekli-charitable-trust-5/
SUMMARY:Keekli Charitable Trust
DESCRIPTION:
ATTACH;FMTTYPE=image/jpeg:https://i0.wp.com/gaiety.in/app/wp-content/uploa
 ds/2024/12/2-e1733135141395.jpeg?fit=500%2C457&ssl=1
CATEGORIES:Activity @ Rehearsal Hall
LOCATION:Rehearsal Hall\, Rehearsal Hall-Gaiety Heritage Cultural Complex S
 himla\, Shimla\, India\, 171001\, India
X-APPLE-STRUCTURED-LOCATION;VALUE=URI;X-ADDRESS=Rehearsal Hall-Gaiety Herit
 age Cultural Complex Shimla\, Shimla\, India\, 171001\, India;X-APPLE-RADI
 US=100;X-TITLE=Rehearsal Hall:geo:0,0
END:VEVENT
END:VCALENDAR