BEGIN:VCALENDAR
VERSION:2.0
PRODID:-//wp-events-plugin.com//7.0.4//EN
BEGIN:VEVENT
UID:349@gaiety.in
DTSTART:20251003T043000Z
DTEND:20251005T113000Z
DTSTAMP:20251006T102529Z
URL:https://gaiety.in/app/events/keekli-charitable-trust-7/
SUMMARY:Keekli Charitable Trust
DESCRIPTION:
ATTACH;FMTTYPE=image/jpeg:https://i0.wp.com/gaiety.in/app/wp-content/uploa
 ds/2024/12/2-e1733135141395.jpeg?fit=500%2C457&ssl=1
CATEGORIES:Activity @ Old Theatre
LOCATION:Old Gothic Theater\, Old Gothic Theater-Gaiety Heritage Cultural C
 omplex Shimla\, Shimla\, India
X-APPLE-STRUCTURED-LOCATION;VALUE=URI;X-ADDRESS=Old Gothic Theater-Gaiety H
 eritage Cultural Complex Shimla\, Shimla\, India;X-APPLE-RADIUS=100;X-TITL
 E=Old Gothic Theater:geo:0,0
END:VEVENT
END:VCALENDAR