BEGIN:VCALENDAR
VERSION:2.0
PRODID:-//wp-events-plugin.com//7.0.4//EN
BEGIN:VEVENT
UID:405@gaiety.in
DTSTART:20251207T043000Z
DTEND:20251207T113000Z
DTSTAMP:20251208T093018Z
URL:https://gaiety.in/app/events/keekli-charitable-trust-9/
SUMMARY:Keekli Charitable Trust
DESCRIPTION:All are cordially invites you to the book release ceremony of t
 he anthology BLACK MAGIC OF WOMEN FROM THE MOUNTAINS edited by Kamayani Va
 shisht & Shelly Bhoil.
ATTACH;FMTTYPE=image/jpeg:https://i0.wp.com/gaiety.in/app/wp-content/uploa
 ds/2025/12/WhatsApp-Image-2025-12-02-at-15.23.15_58c00bfc.jpg?fit=1066%2C1
 600&ssl=1
CATEGORIES:Activity @ Conference Hall
LOCATION:Conference Hall\, Conference Hall - Gaiety Heritage Cultural Compl
 ex\, Shimla\, India
X-APPLE-STRUCTURED-LOCATION;VALUE=URI;X-ADDRESS=Conference Hall - Gaiety He
 ritage Cultural Complex\, Shimla\, India;X-APPLE-RADIUS=100;X-TITLE=Confer
 ence Hall:geo:0,0
END:VEVENT
END:VCALENDAR