BEGIN:VCALENDAR
VERSION:2.0
PRODID:-//wp-events-plugin.com//7.0.4//EN
BEGIN:VEVENT
UID:370@gaiety.in
DTSTART:20251011T043000Z
DTEND:20251011T123000Z
DTSTAMP:20251110T055014Z
URL:https://gaiety.in/app/events/live-times-tv-himachal-dance-championship
 -season-3/
SUMMARY:LIVE TIMES TV – HIMACHAL DANCE CHAMPIONSHIP (Season 3)
DESCRIPTION:🌟 GOYAL MOTORS PVT. LTD. presents 🌟\n🎬 LIVE TIMES TV 
 – HIMACHAL DANCE CHAMPIONSHIP (Season 3) 🎬\n\n💃 GRAND FINALE 🕺
ATTACH;FMTTYPE=image/jpeg:https://i0.wp.com/gaiety.in/app/wp-content/uploa
 ds/2025/10/WhatsApp-Image-2025-10-10-at-12.12.37_650dfc8a-e1764999525618.j
 pg?fit=1080%2C540&ssl=1
CATEGORIES:Activity @ Multipurpose Hall
LOCATION:Multipurpose Hall\, Multipurpose Hall - Gaiety Heritage Cultural C
 omplex Shimla\, Shimla\, India
X-APPLE-STRUCTURED-LOCATION;VALUE=URI;X-ADDRESS=Multipurpose Hall - Gaiety 
 Heritage Cultural Complex Shimla\, Shimla\, India;X-APPLE-RADIUS=100;X-TIT
 LE=Multipurpose Hall:geo:0,0
END:VEVENT
END:VCALENDAR