BEGIN:VCALENDAR
VERSION:2.0
PRODID:-//wp-events-plugin.com//7.0.4//EN
BEGIN:VEVENT
UID:164@gaiety.in
DTSTART:20241201T233000Z
DTEND:20241202T013000Z
DTSTAMP:20241218T062731Z
URL:https://gaiety.in/app/events/mahadev-studio-shimla/
SUMMARY:Mahadev Studio Shimla
DESCRIPTION:Join us for an unforgettable musical evening with Indian Idol F
 ame Neha Dixit\, brought to you by Mahadev Film Production!
ATTACH;FMTTYPE=image/jpeg:https://i0.wp.com/gaiety.in/app/wp-content/uploa
 ds/2024/11/WhatsApp-Image-2024-12-02-at-16.04.17_f0858bc1-e1733135786923.j
 pg?fit=500%2C476&ssl=1
CATEGORIES:Activity @ Old Theatre
LOCATION:Old Gothic Theater\, Old Gothic Theater-Gaiety Heritage Cultural C
 omplex Shimla\, Shimla\, India
X-APPLE-STRUCTURED-LOCATION;VALUE=URI;X-ADDRESS=Old Gothic Theater-Gaiety H
 eritage Cultural Complex Shimla\, Shimla\, India;X-APPLE-RADIUS=100;X-TITL
 E=Old Gothic Theater:geo:0,0
END:VEVENT
END:VCALENDAR