BEGIN:VCALENDAR
VERSION:2.0
PRODID:-//wp-events-plugin.com//7.0.4//EN
BEGIN:VEVENT
UID:402@gaiety.in
DTSTART:20251222T043000Z
DTEND:20251222T113000Z
DTSTAMP:20251230T060919Z
URL:https://gaiety.in/app/events/national-institute-of-electronics-and-inf
 ormation-technology-nielit-shimla/
SUMMARY:National Institute of Electronics and Information Technology (NIELI
 T)\, Shimla
DESCRIPTION:
ATTACH;FMTTYPE=image/jpeg:https://i0.wp.com/gaiety.in/app/wp-content/uploa
 ds/2025/12/481455494_950043023971088_7640522494256056668_n.jpg?fit=200%2C2
 00&ssl=1
CATEGORIES:Activity @ Multipurpose Hall
LOCATION:Multipurpose Hall\, Multipurpose Hall - Gaiety Heritage Cultural C
 omplex Shimla\, Shimla\, India
X-APPLE-STRUCTURED-LOCATION;VALUE=URI;X-ADDRESS=Multipurpose Hall - Gaiety 
 Heritage Cultural Complex Shimla\, Shimla\, India;X-APPLE-RADIUS=100;X-TIT
 LE=Multipurpose Hall:geo:0,0
END:VEVENT
END:VCALENDAR