BEGIN:VCALENDAR
VERSION:2.0
PRODID:-//wp-events-plugin.com//7.0.4//EN
BEGIN:VEVENT
UID:188@gaiety.in
DTSTART:20250125T043000Z
DTEND:20250125T113000Z
DTSTAMP:20250203T085419Z
URL:https://gaiety.in/app/events/national-voters-day-celebrations-by-elect
 ion-commission-hp-2/
SUMMARY:National Voter's Day Celebrations by Election Commission HP
DESCRIPTION:National Voter's Day Celebrations in Himachal Pradesh. I Depart
 ment of Election Commission\, Himachal Pradesh.\nCordially Invites You.
ATTACH;FMTTYPE=image/jpeg:https://i0.wp.com/gaiety.in/app/wp-content/uploa
 ds/2025/01/Election-Commission_Preview-e1736409109785.png?fit=500%2C500&ss
 l=1
CATEGORIES:Activity @ Multipurpose Hall
LOCATION:Multipurpose Hall\, Multipurpose Hall - Gaiety Heritage Cultural C
 omplex Shimla\, Shimla\, India
X-APPLE-STRUCTURED-LOCATION;VALUE=URI;X-ADDRESS=Multipurpose Hall - Gaiety 
 Heritage Cultural Complex Shimla\, Shimla\, India;X-APPLE-RADIUS=100;X-TIT
 LE=Multipurpose Hall:geo:0,0
END:VEVENT
END:VCALENDAR