BEGIN:VCALENDAR
VERSION:2.0
PRODID:-//wp-events-plugin.com//7.0.4//EN
BEGIN:VEVENT
UID:292@gaiety.in
DTSTART:20251025T053000Z
DTEND:20251027T133000Z
DTSTAMP:20251110T055251Z
URL:https://gaiety.in/app/events/painiting-exhibition-by-mayank-vyas/
SUMMARY:Painiting Exhibition by Mayank Vyas
DESCRIPTION:
ATTACH;FMTTYPE=image/jpeg:https://i0.wp.com/gaiety.in/app/wp-content/uploa
 ds/2025/01/vector-illustration-kid-painting-600nw-1040299006-e173736092758
 6.webp?fit=500%2C500&ssl=1
CATEGORIES:Activity @ Teveran Hall
LOCATION:Tavern Hall\, Tavern Halll - Gaiety Heritage Cultural Complex\, Sh
 imla\, India
X-APPLE-STRUCTURED-LOCATION;VALUE=URI;X-ADDRESS=Tavern Halll - Gaiety Herit
 age Cultural Complex\, Shimla\, India;X-APPLE-RADIUS=100;X-TITLE=Tavern Ha
 ll:geo:0,0
END:VEVENT
END:VCALENDAR