BEGIN:VCALENDAR
VERSION:2.0
PRODID:-//wp-events-plugin.com//7.0.4//EN
BEGIN:VEVENT
UID:308@gaiety.in
DTSTART:20251128T053000Z
DTEND:20251130T140000Z
DTSTAMP:20251208T092852Z
URL:https://gaiety.in/app/events/painting-exhibition-by-akanksha-sharma/
SUMMARY:Painting Exhibition by Akanksha Sharma
DESCRIPTION:✨*You Are Warmly Invited!*✨\n\nWe are delighted to welcome 
 you to our *Painting Exhibition*\, featuring the artworks of *Akanksha Sha
 rma* and *Rajat Shunkuta*.\nExperience an inspiring collection that celebr
 ates *nature\, mountains\, silence\, colors\, and stories*\, beautifully e
 xpressed through their paintings.\n\n🗓 *28th–30th November 2025*\n⏰
  *Daily Timings: 10:00 AM to 7:00 PM*\n📍 *Gaiety Theatre\, Shimla (HP)*
 \n🎟 *Free Entry for All Visitors*\n\nWhether you admire calm landscapes
 \, vibrant reflections\, or artistic storytelling\, this exhibition offers
  something that will truly connect with your heart.\nWe warmly invite you\
 , your family\, and friends to be a part of this artistic journey.\n\n*Reg
 ards\,*\n*LACD / GDS Shimla\, Himachal Pradesh*\n\n[embed]https://www.inst
 agram.com/p/DRj04e0kaVs/?utm_source=ig_web_copy_link&amp\;igsh=MzRlODBiNWF
 lZA[/embed]\n\n&nbsp\;\n\n&nbsp\;
ATTACH;FMTTYPE=image/jpeg:https://i0.wp.com/gaiety.in/app/wp-content/uploa
 ds/2025/07/download.jpeg?fit=225%2C225&ssl=1
CATEGORIES:Activity @ Teveran Hall
LOCATION:Tavern Hall\, Tavern Halll - Gaiety Heritage Cultural Complex\, Sh
 imla\, India
X-APPLE-STRUCTURED-LOCATION;VALUE=URI;X-ADDRESS=Tavern Halll - Gaiety Herit
 age Cultural Complex\, Shimla\, India;X-APPLE-RADIUS=100;X-TITLE=Tavern Ha
 ll:geo:0,0
END:VEVENT
END:VCALENDAR