BEGIN:VCALENDAR
VERSION:2.0
PRODID:-//wp-events-plugin.com//7.0.4//EN
BEGIN:VEVENT
UID:363@gaiety.in
DTSTART;VALUE=DATE:20250923
DTEND;VALUE=DATE:20250930
DTSTAMP:20251006T102309Z
URL:https://gaiety.in/app/events/painting-exhibition-by-amala-rai/
SUMMARY:Painting Exhibition by Amala Rai
DESCRIPTION: Abhivyakti Presents \n\nIMPRESSION & EXPRESSIONS\n\nHC Rai Mem
 orial ArtFest – 2025
CATEGORIES:Activity @ Teveran Hall
LOCATION:Tavern Hall\, Tavern Halll - Gaiety Heritage Cultural Complex\, Sh
 imla\, India
X-APPLE-STRUCTURED-LOCATION;VALUE=URI;X-ADDRESS=Tavern Halll - Gaiety Herit
 age Cultural Complex\, Shimla\, India;X-APPLE-RADIUS=100;X-TITLE=Tavern Ha
 ll:geo:0,0
END:VEVENT
END:VCALENDAR