BEGIN:VCALENDAR
VERSION:2.0
PRODID:-//wp-events-plugin.com//7.0.4//EN
BEGIN:VEVENT
UID:283@gaiety.in
DTSTART:20250728T053000Z
DTEND:20250729T140000Z
DTSTAMP:20250820T055644Z
URL:https://gaiety.in/app/events/painting-exhibition-by-anchal-nagu/
SUMMARY:Painting Exhibition by Anchal Nagu
DESCRIPTION:📣 You’re Invited! 🎨🧵🕯️\n\nJoin us at the Handma
 de Market Place for a delightful Craft Show and Sale by Anchal Nagu Creati
 on!\nDiscover a beautiful collection of handcrafted items—from elegant c
 andles to embroidered art\, eco-friendly decor\, and more.\n\n🗓 Dates: 
 28–29 July 2025\n📍 Venue: Handmade Market Place\n🎨 Artist: By Anch
 al Nagu\n✨ Come support local art and creativity!\n\n📷 Follow on Inst
 agram: @craft_by_anchal06\n📌 Scan the QR for more details!
ATTACH;FMTTYPE=image/jpeg:https://i0.wp.com/gaiety.in/app/wp-content/uploa
 ds/2025/06/1-2.jpg?fit=1269%2C1269&ssl=1
CATEGORIES:Activity @ Teveran Hall
LOCATION:Tavern Hall\, Tavern Halll - Gaiety Heritage Cultural Complex\, Sh
 imla\, India
X-APPLE-STRUCTURED-LOCATION;VALUE=URI;X-ADDRESS=Tavern Halll - Gaiety Herit
 age Cultural Complex\, Shimla\, India;X-APPLE-RADIUS=100;X-TITLE=Tavern Ha
 ll:geo:0,0
END:VEVENT
END:VCALENDAR