BEGIN:VCALENDAR
VERSION:2.0
PRODID:-//wp-events-plugin.com//7.0.4//EN
BEGIN:VEVENT
UID:64@gaiety.in
DTSTART;VALUE=DATE:20241217
DTEND;VALUE=DATE:20241223
DTSTAMP:20250114T112551Z
URL:https://gaiety.in/app/events/painting-exhibition-by-anshul-shyam/
SUMMARY:Painting Exhibition by Anshul Shyam
DESCRIPTION:You are warmly invited to "चित्रकथा" – a Phot
 ography & Art Exhibition organized by Mosaic Exhibits.
ATTACH;FMTTYPE=image/jpeg:https://i0.wp.com/gaiety.in/app/wp-content/uploa
 ds/2024/07/Banner-Print-3_page-0001-scaled-e1734502462241.jpg?fit=500%2C46
 4&ssl=1
CATEGORIES:Activity @ Teveran Hall
LOCATION:Tavern Hall\, Tavern Halll - Gaiety Heritage Cultural Complex\, Sh
 imla\, India
X-APPLE-STRUCTURED-LOCATION;VALUE=URI;X-ADDRESS=Tavern Halll - Gaiety Herit
 age Cultural Complex\, Shimla\, India;X-APPLE-RADIUS=100;X-TITLE=Tavern Ha
 ll:geo:0,0
END:VEVENT
END:VCALENDAR