BEGIN:VCALENDAR
VERSION:2.0
PRODID:-//wp-events-plugin.com//7.0.4//EN
BEGIN:VEVENT
UID:469@gaiety.in
DTSTART:20260702T053000Z
DTEND:20260705T140000Z
DTSTAMP:20260318T072142Z
URL:https://gaiety.in/app/events/painting-exhibition-by-ashish-kumar-yadav
 /
SUMMARY:Painting Exhibition by Ashish Kumar Yadav
DESCRIPTION:✨ Join us and be a part of this inspiring artistic journey! 
 🎨
ATTACH;FMTTYPE=image/jpeg:https://i0.wp.com/gaiety.in/app/wp-content/uploa
 ds/2026/03/pradyumn-kumar_page-0008-e1773818230487.jpg?fit=860%2C1300&ssl=
 1
CATEGORIES:Activity @ Teveran Hall
LOCATION:Tavern Hall\, Tavern Halll - Gaiety Heritage Cultural Complex\, Sh
 imla\, India
X-APPLE-STRUCTURED-LOCATION;VALUE=URI;X-ADDRESS=Tavern Halll - Gaiety Herit
 age Cultural Complex\, Shimla\, India;X-APPLE-RADIUS=100;X-TITLE=Tavern Ha
 ll:geo:0,0
END:VEVENT
END:VCALENDAR