BEGIN:VCALENDAR
VERSION:2.0
PRODID:-//wp-events-plugin.com//7.0.4//EN
BEGIN:VEVENT
UID:299@gaiety.in
DTSTART:20251210T053000Z
DTEND:20251212T140000Z
DTSTAMP:20251230T060728Z
URL:https://gaiety.in/app/events/painting-exhibition-by-auckland-house-sch
 ool-for-boys/
SUMMARY:Painting Exhibition by Auckland House School For Boys
DESCRIPTION:
ATTACH;FMTTYPE=image/jpeg:https://i0.wp.com/gaiety.in/app/wp-content/uploa
 ds/2025/06/pngtree-color-in-clipart-girl-painting-flowers-on-the-easel-car
 toon-vector-png-image_6860764.png?fit=360%2C360&ssl=1
CATEGORIES:Activity @ Teveran Hall
LOCATION:Tavern Hall\, Tavern Halll - Gaiety Heritage Cultural Complex\, Sh
 imla\, India
X-APPLE-STRUCTURED-LOCATION;VALUE=URI;X-ADDRESS=Tavern Halll - Gaiety Herit
 age Cultural Complex\, Shimla\, India;X-APPLE-RADIUS=100;X-TITLE=Tavern Ha
 ll:geo:0,0
END:VEVENT
END:VCALENDAR