BEGIN:VCALENDAR
VERSION:2.0
PRODID:-//wp-events-plugin.com//7.0.4//EN
BEGIN:VEVENT
UID:383@gaiety.in
DTSTART:20251113T043000Z
DTEND:20251116T133000Z
DTSTAMP:20251127T125841Z
URL:https://gaiety.in/app/events/painting-exhibition-by-bhadar-singh/
SUMMARY:Painting Exhibition by Bhadar Singh
DESCRIPTION:
ATTACH;FMTTYPE=image/jpeg:https://i0.wp.com/gaiety.in/app/wp-content/uploa
 ds/2025/01/360_F_21108437_3YGieCoZjoinJpkYpjQl9ksWkQdx7280.jpg?fit=558%2C3
 60&ssl=1
CATEGORIES:Activity @ Teveran Hall
LOCATION:Tavern Hall\, Tavern Halll - Gaiety Heritage Cultural Complex\, Sh
 imla\, India
X-APPLE-STRUCTURED-LOCATION;VALUE=URI;X-ADDRESS=Tavern Halll - Gaiety Herit
 age Cultural Complex\, Shimla\, India;X-APPLE-RADIUS=100;X-TITLE=Tavern Ha
 ll:geo:0,0
END:VEVENT
END:VCALENDAR