BEGIN:VCALENDAR
VERSION:2.0
PRODID:-//wp-events-plugin.com//7.0.4//EN
BEGIN:VEVENT
UID:220@gaiety.in
DTSTART:20250324T053000Z
DTEND:20250327T140000Z
DTSTAMP:20250515T082606Z
URL:https://gaiety.in/app/events/painting-exhibition-by-dept-of-visual-art
 -of-hpu-shimla/
SUMMARY:Painting Exhibition by Dept. of Visual Art of HPU Shimla
DESCRIPTION:🎨✨ You’re Invited! ✨🎨\nJoin us for an unforgettable
  Painting Exhibition showcasing stunning artworks by talented artists.
ATTACH;FMTTYPE=image/jpeg:https://i0.wp.com/gaiety.in/app/wp-content/uploa
 ds/2025/01/vector-illustration-kid-painting-600nw-1040299006-e173736092758
 6.webp?fit=500%2C500&ssl=1
CATEGORIES:Activity @ Teveran Hall
LOCATION:Tavern Hall\, Tavern Halll - Gaiety Heritage Cultural Complex\, Sh
 imla\, India
X-APPLE-STRUCTURED-LOCATION;VALUE=URI;X-ADDRESS=Tavern Halll - Gaiety Herit
 age Cultural Complex\, Shimla\, India;X-APPLE-RADIUS=100;X-TITLE=Tavern Ha
 ll:geo:0,0
END:VEVENT
END:VCALENDAR