BEGIN:VCALENDAR
VERSION:2.0
PRODID:-//wp-events-plugin.com//7.0.4//EN
BEGIN:VEVENT
UID:78@gaiety.in
DTSTART:20240802T053000Z
DTEND:20240804T133000Z
DTSTAMP:20240813T063117Z
URL:https://gaiety.in/app/events/painting-exhibition-by-dimple-art-2/
SUMMARY:Painting Exhibition by Dimple Art
DESCRIPTION:NOTE: This Exhibition has been cancelled by Dimple Art.\n&nbsp\
 ;\n\nPainting Exhibition by Dimple Art (Please contact us for more details
 :- 99718-57701)\nA painter is an artist who uses different materials\, pai
 nters use different techniques\, styles and mediums to express their thoug
 hts\, feelings and observations.\n[gallery type='google' view='photos' alb
 um_id='AK66s-bKpRQjIbphXWHrQuG0ROgiPU312GQ3tuqEAPBKPwswe7N4jEKgGaAKL6qh0Wx
 zKf-B2MJs' main_size='1100' layout='mosaic']
ATTACH;FMTTYPE=image/jpeg:https://i0.wp.com/gaiety.in/app/wp-content/uploa
 ds/2024/07/1-1-e1721735336146.jpg?fit=500%2C500&ssl=1
CATEGORIES:Activity @ Teveran Hall
LOCATION:Tavern Hall\, Tavern Halll - Gaiety Heritage Cultural Complex\, Sh
 imla\, India
X-APPLE-STRUCTURED-LOCATION;VALUE=URI;X-ADDRESS=Tavern Halll - Gaiety Herit
 age Cultural Complex\, Shimla\, India;X-APPLE-RADIUS=100;X-TITLE=Tavern Ha
 ll:geo:0,0
END:VEVENT
END:VCALENDAR