BEGIN:VCALENDAR
VERSION:2.0
PRODID:-//wp-events-plugin.com//7.0.4//EN
BEGIN:VEVENT
UID:465@gaiety.in
DTSTART:20260601T053000Z
DTEND:20260604T140000Z
DTSTAMP:20260318T065953Z
URL:https://gaiety.in/app/events/painting-exhibition-by-dr-mujeeb-husain-2
 /
SUMMARY:Painting Exhibition by Dr. Mujeeb Husain
DESCRIPTION:✨ Let art inspire you\, captivate you\, and leave you with un
 forgettable impressions.
ATTACH;FMTTYPE=image/jpeg:https://i0.wp.com/gaiety.in/app/wp-content/uploa
 ds/2025/07/download.jpeg?fit=225%2C225&ssl=1
CATEGORIES:Activity @ Teveran Hall
LOCATION:Tavern Hall\, Tavern Halll - Gaiety Heritage Cultural Complex\, Sh
 imla\, India
X-APPLE-STRUCTURED-LOCATION;VALUE=URI;X-ADDRESS=Tavern Halll - Gaiety Herit
 age Cultural Complex\, Shimla\, India;X-APPLE-RADIUS=100;X-TITLE=Tavern Ha
 ll:geo:0,0
END:VEVENT
END:VCALENDAR