BEGIN:VCALENDAR
VERSION:2.0
PRODID:-//wp-events-plugin.com//7.0.4//EN
BEGIN:VEVENT
UID:198@gaiety.in
DTSTART:20250607T053000Z
DTEND:20250611T140000Z
DTSTAMP:20250619T101232Z
URL:https://gaiety.in/app/events/painting-exhibition-by-garima-lahumi/
SUMMARY:Painting Exhibition by Garima Lahumi
DESCRIPTION:All are cordially invited! 
ATTACH;FMTTYPE=image/jpeg:https://i0.wp.com/gaiety.in/app/wp-content/uploa
 ds/2025/01/1-1-e1736853725986.jpeg?fit=500%2C464&ssl=1
CATEGORIES:Activity @ Teveran Hall
LOCATION:Tavern Hall\, Tavern Halll - Gaiety Heritage Cultural Complex\, Sh
 imla\, India
X-APPLE-STRUCTURED-LOCATION;VALUE=URI;X-ADDRESS=Tavern Halll - Gaiety Herit
 age Cultural Complex\, Shimla\, India;X-APPLE-RADIUS=100;X-TITLE=Tavern Ha
 ll:geo:0,0
END:VEVENT
END:VCALENDAR