BEGIN:VCALENDAR
VERSION:2.0
PRODID:-//wp-events-plugin.com//7.0.4//EN
BEGIN:VEVENT
UID:66@gaiety.in
DTSTART;VALUE=DATE:20241205
DTEND;VALUE=DATE:20241209
DTSTAMP:20241218T062722Z
URL:https://gaiety.in/app/events/painting-exhibition-by-gauri-balkrishna-p
 alekar/
SUMMARY:Painting Exhibition by Gauri Balkrishna Palekar
DESCRIPTION:Special invitation to all patrons by Gauri Balkrishna Palekar!\
 , Water Colour Painting Exhibition @ Tavern Hall @ Gaiety Theatre Shimla. 
ATTACH;FMTTYPE=image/jpeg:https://i0.wp.com/gaiety.in/app/wp-content/uploa
 ds/2024/07/468737730_4717246658501482_6227817905223795983_n-e1733134758406
 .jpg?fit=500%2C513&ssl=1
CATEGORIES:Activity @ Teveran Hall
LOCATION:Tavern Hall\, Tavern Halll - Gaiety Heritage Cultural Complex\, Sh
 imla\, India
X-APPLE-STRUCTURED-LOCATION;VALUE=URI;X-ADDRESS=Tavern Halll - Gaiety Herit
 age Cultural Complex\, Shimla\, India;X-APPLE-RADIUS=100;X-TITLE=Tavern Ha
 ll:geo:0,0
END:VEVENT
END:VCALENDAR