BEGIN:VCALENDAR
VERSION:2.0
PRODID:-//wp-events-plugin.com//7.0.4//EN
BEGIN:VEVENT
UID:323@gaiety.in
DTSTART:20250811T053000Z
DTEND:20250815T140000Z
DTSTAMP:20250820T055737Z
URL:https://gaiety.in/app/events/painting-exhibition-by-himachal-state-mus
 eum-shimla/
SUMMARY:Painting Exhibition by Himachal State Museum Shimla
DESCRIPTION: Himachal State Museum\, Shimla\npresents a captivating\n\nPain
 ting Exhibition\nfeaturing a rich collection of artworks celebrating the h
 eritage\, nature\, and culture of Himachal Pradesh.\n\n Dates: 11th August
  – 15th August 2025\n Time: 11:00 AM to 6:00 PM (Daily)\n Venue: Tavern 
 Hall\, Gaiety Theatre\, Shimla\n\nJoin us for a visual journey through dif
 ferent styles and mediums\, created by both emerging and established artis
 ts.\nAn artistic celebration of freedom and creativity coinciding with the
  spirit of Independence Week.\n\n Organized by: Himachal State Museum\, Sh
 imla\n Entry: Free & open to all art lovers
ATTACH;FMTTYPE=image/jpeg:https://i0.wp.com/gaiety.in/app/wp-content/uploa
 ds/2025/07/himachal-state-museum-shimla-tourism-entry-fee-timings-holidays
 -reviews-header-1024x512-1.jpg?fit=1024%2C512&ssl=1
CATEGORIES:Activity @ Teveran Hall
LOCATION:Tavern Hall\, Tavern Halll - Gaiety Heritage Cultural Complex\, Sh
 imla\, India
X-APPLE-STRUCTURED-LOCATION;VALUE=URI;X-ADDRESS=Tavern Halll - Gaiety Herit
 age Cultural Complex\, Shimla\, India;X-APPLE-RADIUS=100;X-TITLE=Tavern Ha
 ll:geo:0,0
END:VEVENT
END:VCALENDAR