BEGIN:VCALENDAR
VERSION:2.0
PRODID:-//wp-events-plugin.com//7.0.4//EN
BEGIN:VEVENT
UID:279@gaiety.in
DTSTART:20250724T053000Z
DTEND:20250727T140000Z
DTSTAMP:20250728T093937Z
URL:https://gaiety.in/app/events/painting-exhibition-by-homecrux-priya-cha
 uhan/
SUMMARY:Painting Exhibition by Homecrux (Priya Chauhan)
DESCRIPTION:🎨✨ You are Cordially Invited ✨🎨
ATTACH;FMTTYPE=image/jpeg:https://i0.wp.com/gaiety.in/app/wp-content/uploa
 ds/2025/06/27-to-27-july-2025-6.jpg?fit=2268%2C2416&ssl=1
CATEGORIES:Activity @ Teveran Hall
LOCATION:Tavern Hall\, Tavern Halll - Gaiety Heritage Cultural Complex\, Sh
 imla\, India
X-APPLE-STRUCTURED-LOCATION;VALUE=URI;X-ADDRESS=Tavern Halll - Gaiety Herit
 age Cultural Complex\, Shimla\, India;X-APPLE-RADIUS=100;X-TITLE=Tavern Ha
 ll:geo:0,0
END:VEVENT
END:VCALENDAR