BEGIN:VCALENDAR
VERSION:2.0
PRODID:-//wp-events-plugin.com//7.0.4//EN
BEGIN:VEVENT
UID:199@gaiety.in
DTSTART:20250623T053000Z
DTEND:20250627T140000Z
DTSTAMP:20250702T101606Z
URL:https://gaiety.in/app/events/painting-exhibition-by-jagjit-singh/
SUMMARY:Painting Exhibition by Jagjit Singh
DESCRIPTION:All are cordially invited! 
ATTACH;FMTTYPE=image/jpeg:https://i0.wp.com/gaiety.in/app/wp-content/uploa
 ds/2025/01/WhatsApp-Image-2025-01-14-at-3.30.10-PM-1-e1736853450854.jpeg?f
 it=478%2C501&ssl=1
CATEGORIES:Activity @ Teveran Hall
LOCATION:Tavern Hall\, Tavern Halll - Gaiety Heritage Cultural Complex\, Sh
 imla\, India
X-APPLE-STRUCTURED-LOCATION;VALUE=URI;X-ADDRESS=Tavern Halll - Gaiety Herit
 age Cultural Complex\, Shimla\, India;X-APPLE-RADIUS=100;X-TITLE=Tavern Ha
 ll:geo:0,0
END:VEVENT
END:VCALENDAR