BEGIN:VCALENDAR
VERSION:2.0
PRODID:-//wp-events-plugin.com//7.0.4//EN
BEGIN:VEVENT
UID:458@gaiety.in
DTSTART:20260422T053000Z
DTEND:20260425T140000Z
DTSTAMP:20260404T084451Z
URL:https://gaiety.in/app/events/painting-exhibition-by-kanika-sehgal/
SUMMARY:Painting Exhibition by Kanika Sehgal
DESCRIPTION:You are warmly invited to a Painting Exhibition at the iconic G
 aiety Theatre.
ATTACH;FMTTYPE=image/jpeg:https://i0.wp.com/gaiety.in/app/wp-content/uploa
 ds/2026/03/1000277201.jpg?fit=960%2C1280&ssl=1
CATEGORIES:Activity @ Teveran Hall
LOCATION:Tavern Hall\, Tavern Halll - Gaiety Heritage Cultural Complex\, Sh
 imla\, India
X-APPLE-STRUCTURED-LOCATION;VALUE=URI;X-ADDRESS=Tavern Halll - Gaiety Herit
 age Cultural Complex\, Shimla\, India;X-APPLE-RADIUS=100;X-TITLE=Tavern Ha
 ll:geo:0,0
END:VEVENT
END:VCALENDAR