BEGIN:VCALENDAR
VERSION:2.0
PRODID:-//wp-events-plugin.com//7.0.4//EN
BEGIN:VEVENT
UID:290@gaiety.in
DTSTART:20251016T053000Z
DTEND:20251019T133000Z
DTSTAMP:20251110T055144Z
URL:https://gaiety.in/app/events/painting-exhibition-by-komal-yadav/
SUMMARY:Painting Exhibition by Komal Yadav
DESCRIPTION:
ATTACH;FMTTYPE=image/jpeg:https://i0.wp.com/gaiety.in/app/wp-content/uploa
 ds/2025/01/art-club-after-lessons-for-pupils-girl-standing-with-colorful-p
 aint-palette-and-brush-or-tassel-kid-drawing-painting-on-canvas-or-easel-b
 ack-to-school-concept-flat-cartoon-illustration-vector-e1737360339788.jpg?
 fit=500%2C500&ssl=1
CATEGORIES:Activity @ Teveran Hall
LOCATION:Tavern Hall\, Tavern Halll - Gaiety Heritage Cultural Complex\, Sh
 imla\, India
X-APPLE-STRUCTURED-LOCATION;VALUE=URI;X-ADDRESS=Tavern Halll - Gaiety Herit
 age Cultural Complex\, Shimla\, India;X-APPLE-RADIUS=100;X-TITLE=Tavern Ha
 ll:geo:0,0
END:VEVENT
END:VCALENDAR