BEGIN:VCALENDAR
VERSION:2.0
PRODID:-//wp-events-plugin.com//7.0.4//EN
BEGIN:VEVENT
UID:316@gaiety.in
DTSTART:20250824T053000Z
DTEND:20250827T140000Z
DTSTAMP:20250903T070242Z
URL:https://gaiety.in/app/events/painting-exhibition-by-maloy-dutta/
SUMMARY:Painting Exhibition by Maloy Dutta
DESCRIPTION:Open to all art lovers and visitors!\n Painting Exhibition by M
 olay Dutta\n Tavern Hall\, Gaiety Theatre\, Shimla\n 24th August to 27th A
 ugust 2025\n 11:00 AM to 7:30 PM\n\nCome witness a vibrant collection of a
 rtworks by renowned artist Molay Dutta\, showcasing creativity\, colour\, 
 and emotion on canvas.
ATTACH;FMTTYPE=image/jpeg:https://i0.wp.com/gaiety.in/app/wp-content/uploa
 ds/2025/07/WhatsApp-Image-2025-07-29-at-14.39.54_e45aff9a.jpg?fit=960%2C12
 80&ssl=1
CATEGORIES:Activity @ Teveran Hall
LOCATION:Tavern Hall\, Tavern Halll - Gaiety Heritage Cultural Complex\, Sh
 imla\, India
X-APPLE-STRUCTURED-LOCATION;VALUE=URI;X-ADDRESS=Tavern Halll - Gaiety Herit
 age Cultural Complex\, Shimla\, India;X-APPLE-RADIUS=100;X-TITLE=Tavern Ha
 ll:geo:0,0
END:VEVENT
END:VCALENDAR