BEGIN:VCALENDAR
VERSION:2.0
PRODID:-//wp-events-plugin.com//7.0.4//EN
BEGIN:VEVENT
UID:463@gaiety.in
DTSTART:20260524T053000Z
DTEND:20260526T140000Z
DTSTAMP:20260318T064315Z
URL:https://gaiety.in/app/events/painting-exhibition-by-manpreet-kaur/
SUMMARY:Painting Exhibition by Manpreet Kaur
DESCRIPTION:✨ We warmly welcome you to witness creativity and celebrate a
 rt with us!
ATTACH;FMTTYPE=image/jpeg:https://i0.wp.com/gaiety.in/app/wp-content/uploa
 ds/2026/03/1000166288.jpg?fit=1280%2C1067&ssl=1
CATEGORIES:Activity @ Teveran Hall
LOCATION:Tavern Hall\, Tavern Halll - Gaiety Heritage Cultural Complex\, Sh
 imla\, India
X-APPLE-STRUCTURED-LOCATION;VALUE=URI;X-ADDRESS=Tavern Halll - Gaiety Herit
 age Cultural Complex\, Shimla\, India;X-APPLE-RADIUS=100;X-TITLE=Tavern Ha
 ll:geo:0,0
END:VEVENT
END:VCALENDAR