BEGIN:VCALENDAR
VERSION:2.0
PRODID:-//wp-events-plugin.com//7.0.4//EN
BEGIN:VEVENT
UID:255@gaiety.in
DTSTART:20250518T053000Z
DTEND:20250524T140000Z
DTSTAMP:20250526T070514Z
URL:https://gaiety.in/app/events/painting-exhibition-by-mashu-art-shimla-h
 p/
SUMMARY:Painting Exhibition by Mashu Art Shimla HP
DESCRIPTION:Invitation to the 6th International Annual Art Exhibition – O
 NENESS
ATTACH;FMTTYPE=image/jpeg:https://i0.wp.com/gaiety.in/app/wp-content/uploa
 ds/2025/04/Mahsa-Art-Exhibition-18-24-May-2025-2-e1747294939702.jpg?fit=50
 0%2C493&ssl=1
CATEGORIES:Activity @ Teveran Hall
LOCATION:Tavern Hall\, Tavern Halll - Gaiety Heritage Cultural Complex\, Sh
 imla\, India
X-APPLE-STRUCTURED-LOCATION;VALUE=URI;X-ADDRESS=Tavern Halll - Gaiety Herit
 age Cultural Complex\, Shimla\, India;X-APPLE-RADIUS=100;X-TITLE=Tavern Ha
 ll:geo:0,0
END:VEVENT
END:VCALENDAR