BEGIN:VCALENDAR
VERSION:2.0
PRODID:-//wp-events-plugin.com//7.0.4//EN
BEGIN:VEVENT
UID:330@gaiety.in
DTSTART:20250821T053000Z
DTEND:20250823T133000Z
DTSTAMP:20250903T070227Z
URL:https://gaiety.in/app/events/painting-exhibition-by-mohil-art-shimla/
SUMMARY:Painting Exhibition by Mohil Art Shimla
DESCRIPTION:All are cordially invited 🎨✨ Painting Exhibition by Mohil 
 Art\, Shimla ✨🎨\n\nWe are delighted to invite you to an exclusive Pai
 nting Exhibition by Mohil Art\, Shimla\, showcasing a vibrant collection o
 f artworks that celebrate creativity\, culture\, and imagination.\n\n📍 
 Venue: Gaiety Theatre\, Tavern Hall\, Shimla\n📅 Dates: 21st – 31st Au
 gust\n🕚 Time: 11:00 AM – 07:00 PM\n\nExplore breathtaking paintings\,
  connect with the artist\, and immerse yourself in the world of colors and
  expressions.\n\n Entry is open for all art enthusiasts\, tourists\, and l
 ocals.\n\nMr. Mohil: 98160-34526
ATTACH;FMTTYPE=image/jpeg:https://i0.wp.com/gaiety.in/app/wp-content/uploa
 ds/2025/08/21-to-23-Aug-25-1.jpg?fit=1080%2C1350&ssl=1
CATEGORIES:Activity @ Teveran Hall
LOCATION:Old Gothic Theater\, Old Gothic Theater-Gaiety Heritage Cultural C
 omplex Shimla\, Shimla\, India
X-APPLE-STRUCTURED-LOCATION;VALUE=URI;X-ADDRESS=Old Gothic Theater-Gaiety H
 eritage Cultural Complex Shimla\, Shimla\, India;X-APPLE-RADIUS=100;X-TITL
 E=Old Gothic Theater:geo:0,0
END:VEVENT
END:VCALENDAR