BEGIN:VCALENDAR
VERSION:2.0
PRODID:-//wp-events-plugin.com//7.0.4//EN
BEGIN:VEVENT
UID:470@gaiety.in
DTSTART:20260706T053000Z
DTEND:20260709T140000Z
DTSTAMP:20260318T095248Z
URL:https://gaiety.in/app/events/painting-exhibition-by-rajinder-kaur-and-
 group/
SUMMARY:Painting Exhibition by Rajinder Kaur and Group
DESCRIPTION:✨ Experience the beauty of art and the charm of craftsmanship
 \, all under one roof.
ATTACH;FMTTYPE=image/jpeg:https://i0.wp.com/gaiety.in/app/wp-content/uploa
 ds/2026/03/Chain-Exhibition-Catalogue-8x5.5_page-0032.jpg?fit=1200%2C825&s
 sl=1
CATEGORIES:Activity @ Teveran Hall
LOCATION:Tavern Hall\, Tavern Halll - Gaiety Heritage Cultural Complex\, Sh
 imla\, India
X-APPLE-STRUCTURED-LOCATION;VALUE=URI;X-ADDRESS=Tavern Halll - Gaiety Herit
 age Cultural Complex\, Shimla\, India;X-APPLE-RADIUS=100;X-TITLE=Tavern Ha
 ll:geo:0,0
END:VEVENT
END:VCALENDAR