BEGIN:VCALENDAR
VERSION:2.0
PRODID:-//wp-events-plugin.com//7.0.4//EN
BEGIN:VEVENT
UID:318@gaiety.in
DTSTART:20250819T053000Z
DTEND:20250820T140000Z
DTSTAMP:20250820T055800Z
URL:https://gaiety.in/app/events/painting-exhibition-by-sarita-sharma/
SUMMARY:Painting Exhibition by Sarita Sharma
DESCRIPTION:
ATTACH;FMTTYPE=image/jpeg:https://i0.wp.com/gaiety.in/app/wp-content/uploa
 ds/2025/07/WhatsApp-Image-2025-07-29-at-16.05.13_a8825bc9-e1753788489347.j
 pg?fit=1380%2C1067&ssl=1
CATEGORIES:Activity @ Teveran Hall
LOCATION:Tavern Hall\, Tavern Halll - Gaiety Heritage Cultural Complex\, Sh
 imla\, India
X-APPLE-STRUCTURED-LOCATION;VALUE=URI;X-ADDRESS=Tavern Halll - Gaiety Herit
 age Cultural Complex\, Shimla\, India;X-APPLE-RADIUS=100;X-TITLE=Tavern Ha
 ll:geo:0,0
END:VEVENT
END:VCALENDAR