BEGIN:VCALENDAR
VERSION:2.0
PRODID:-//wp-events-plugin.com//7.0.4//EN
BEGIN:VEVENT
UID:359@gaiety.in
DTSTART:20250906T053000Z
DTEND:20250911T113000Z
DTSTAMP:20251006T102041Z
URL:https://gaiety.in/app/events/painting-exhibition-by-shimla-art/
SUMMARY:Painting Exhibition by Shimla Art
DESCRIPTION:🎨✨ Welcome to the Painting Exhibition ✨🎨\n\nWe are de
 lighted to invite you to the Painting Exhibition organized by Shimla Art\,
  where art and culture come alive on canvas.
ATTACH;FMTTYPE=image/jpeg:https://i0.wp.com/gaiety.in/app/wp-content/uploa
 ds/2025/09/1-4.jpeg?fit=1280%2C720&ssl=1
CATEGORIES:Activity @ Teveran Hall
LOCATION:Tavern Hall\, Tavern Halll - Gaiety Heritage Cultural Complex\, Sh
 imla\, India
X-APPLE-STRUCTURED-LOCATION;VALUE=URI;X-ADDRESS=Tavern Halll - Gaiety Herit
 age Cultural Complex\, Shimla\, India;X-APPLE-RADIUS=100;X-TITLE=Tavern Ha
 ll:geo:0,0
END:VEVENT
END:VCALENDAR