BEGIN:VCALENDAR
VERSION:2.0
PRODID:-//wp-events-plugin.com//7.0.4//EN
BEGIN:VEVENT
UID:281@gaiety.in
DTSTART:20250731T053000Z
DTEND:20250803T140000Z
DTSTAMP:20250820T055654Z
URL:https://gaiety.in/app/events/painting-exhibition-by-shruti-art/
SUMMARY:Painting Exhibition by Shruti Art
DESCRIPTION:🎨 Shruti Art Cordially Invites You To\nCanvas Conversations\
 nA Solo Painting Exhibition\nFeaturing the original artworks of Shruti Art
 \,\ncelebrating colors\, emotions\, and stories woven through brush and ca
 nvas.\n📍 Venue: Tavern Hall\, Gaiety Theatre\, The Mall\, Shimla\n📅 
 Dates: 31st July to 3rd August 2025\n⏰ Timings: 11:00 AM – 7:30 PM\nDe
 ar Art Enthusiasts\,\nStep into a world of visual poetry — where every s
 troke speaks and every color breathes.\nAn immersive artistic experience y
 ou won't want to miss!\nFor More Details\, Contact:\n📞 88475-32369
ATTACH;FMTTYPE=image/jpeg:https://i0.wp.com/gaiety.in/app/wp-content/uploa
 ds/2025/06/31-july-to-3-aug-2025-4-scaled.jpeg?fit=1889%2C2560&ssl=1
CATEGORIES:Activity @ Old Theatre
LOCATION:Tavern Hall\, Tavern Halll - Gaiety Heritage Cultural Complex\, Sh
 imla\, India
X-APPLE-STRUCTURED-LOCATION;VALUE=URI;X-ADDRESS=Tavern Halll - Gaiety Herit
 age Cultural Complex\, Shimla\, India;X-APPLE-RADIUS=100;X-TITLE=Tavern Ha
 ll:geo:0,0
END:VEVENT
END:VCALENDAR