BEGIN:VCALENDAR
VERSION:2.0
PRODID:-//wp-events-plugin.com//7.0.4//EN
BEGIN:VEVENT
UID:194@gaiety.in
DTSTART:20250419T053000Z
DTEND:20250423T143000Z
DTSTAMP:20250515T082935Z
URL:https://gaiety.in/app/events/painting-exhibition-by-vijay-laxmi-deepak
 -mer/
SUMMARY:Painting Exhibition by Vijay Laxmi Deepak Mer
DESCRIPTION:All are cordially invited! 
CATEGORIES:Activity @ Teveran Hall
LOCATION:Tavern Hall\, Tavern Halll - Gaiety Heritage Cultural Complex\, Sh
 imla\, India
X-APPLE-STRUCTURED-LOCATION;VALUE=URI;X-ADDRESS=Tavern Halll - Gaiety Herit
 age Cultural Complex\, Shimla\, India;X-APPLE-RADIUS=100;X-TITLE=Tavern Ha
 ll:geo:0,0
END:VEVENT
END:VCALENDAR