BEGIN:VCALENDAR
VERSION:2.0
PRODID:-//wp-events-plugin.com//7.0.4//EN
BEGIN:VEVENT
UID:229@gaiety.in
DTSTART:20250225T123000Z
DTEND:20250225T140000Z
DTSTAMP:20250227T085509Z
URL:https://gaiety.in/app/events/patkatha-pardon-kee-ulajhan-presented-by-
 jagruti-kala-manch/
SUMMARY:"Patkatha" (Pardon Kee Ulajhan) presented by Jagruti Kala Manch
DESCRIPTION:🎭 INVITATION TO A POWERFUL THEATRICAL EXPERIENCE 🎭
ATTACH;FMTTYPE=image/jpeg:https://i0.wp.com/gaiety.in/app/wp-content/uploa
 ds/2025/02/WhatsApp-Image-2025-02-24-at-10.59.27-AM-1-e1740378268828.jpeg?
 fit=526%2C481&ssl=1
CATEGORIES:Activity @ Old Theatre
LOCATION:Old Gothic Theater\, Old Gothic Theater-Gaiety Heritage Cultural C
 omplex Shimla\, Shimla\, India
X-APPLE-STRUCTURED-LOCATION;VALUE=URI;X-ADDRESS=Old Gothic Theater-Gaiety H
 eritage Cultural Complex Shimla\, Shimla\, India;X-APPLE-RADIUS=100;X-TITL
 E=Old Gothic Theater:geo:0,0
END:VEVENT
END:VCALENDAR