BEGIN:VCALENDAR
VERSION:2.0
PRODID:-//wp-events-plugin.com//7.0.4//EN
BEGIN:VEVENT
UID:189@gaiety.in
DTSTART:20250126T043000Z
DTEND:20250126T113000Z
DTSTAMP:20250203T085429Z
URL:https://gaiety.in/app/events/republic-day/
SUMMARY:Republic Day
DESCRIPTION:जय हिंद!
ATTACH;FMTTYPE=image/jpeg:https://i0.wp.com/gaiety.in/app/wp-content/uploa
 ds/2025/01/istockphoto-1295757730-612x612-1-e1736854088431.jpg?fit=500%2C5
 00&ssl=1
CATEGORIES:Activity @ Conference Hall,Activity @ Multipurpose
 Hall,Activity @ Old Theatre
LOCATION:Multipurpose Hall\, Multipurpose Hall - Gaiety Heritage Cultural C
 omplex Shimla\, Shimla\, India
X-APPLE-STRUCTURED-LOCATION;VALUE=URI;X-ADDRESS=Multipurpose Hall - Gaiety 
 Heritage Cultural Complex Shimla\, Shimla\, India;X-APPLE-RADIUS=100;X-TIT
 LE=Multipurpose Hall:geo:0,0
END:VEVENT
END:VCALENDAR