BEGIN:VCALENDAR
VERSION:2.0
PRODID:-//wp-events-plugin.com//7.0.4//EN
BEGIN:VEVENT
UID:190@gaiety.in
DTSTART:20250202T043000Z
DTEND:20250202T113000Z
DTSTAMP:20250203T085516Z
URL:https://gaiety.in/app/events/root-pure-marketing-pvt-ltd/
SUMMARY:Root Pure Marketing Pvt. Ltd.
DESCRIPTION:All are cordially invited! 
CATEGORIES:Activity @ Multipurpose Hall
LOCATION:Multipurpose Hall\, Multipurpose Hall - Gaiety Heritage Cultural C
 omplex Shimla\, Shimla\, India
X-APPLE-STRUCTURED-LOCATION;VALUE=URI;X-ADDRESS=Multipurpose Hall - Gaiety 
 Heritage Cultural Complex Shimla\, Shimla\, India;X-APPLE-RADIUS=100;X-TIT
 LE=Multipurpose Hall:geo:0,0
END:VEVENT
END:VCALENDAR