BEGIN:VCALENDAR
VERSION:2.0
PRODID:-//wp-events-plugin.com//7.0.4//EN
BEGIN:VEVENT
UID:76@gaiety.in
DTSTART:20240726T053000Z
DTEND:20240726T133000Z
DTSTAMP:20240813T121203Z
URL:https://gaiety.in/app/events/sainik-welfare/
SUMMARY:Sainik Welfare
DESCRIPTION:Department of Sainik \n\nInvitation for the celebration of Sai
 nik Welfare-2024\nYou all are cordially invited to Gaiety Shimla on 26 J
 uly\, 2024\nThe Department of Sainik Welfare exercise general control and 
 supervision over the Zila Sainik Welfare Offices\, some of which cover mor
 e than one revenue District. The Chief Minister of the State is the Chairm
 an of the Rajya Sainik Board in the State and Collector is the Chairman of
  the Zila Sainik Board
ATTACH;FMTTYPE=image/jpeg:https://i0.wp.com/gaiety.in/app/wp-content/uploa
 ds/2024/07/vk7EYbrA_400x400.jpg?fit=400%2C400&ssl=1
CATEGORIES:Activity @ Old Theatre
LOCATION:Old Gothic Theater\, Old Gothic Theater-Gaiety Heritage Cultural C
 omplex Shimla\, Shimla\, India
X-APPLE-STRUCTURED-LOCATION;VALUE=URI;X-ADDRESS=Old Gothic Theater-Gaiety H
 eritage Cultural Complex Shimla\, Shimla\, India;X-APPLE-RADIUS=100;X-TITL
 E=Old Gothic Theater:geo:0,0
END:VEVENT
END:VCALENDAR