BEGIN:VCALENDAR
VERSION:2.0
PRODID:-//wp-events-plugin.com//7.0.4//EN
BEGIN:VEVENT
UID:239@gaiety.in
DTSTART:20250328T053000Z
DTEND:20250328T113000Z
DTSTAMP:20250515T082655Z
URL:https://gaiety.in/app/events/shimla-amateur-dramatics-club-adc/
SUMMARY:Shimla Amateur Dramatics Club (ADC)
DESCRIPTION:The Shimla Amateur Dramatics Club (ADC) is organizing an Execut
 ive Committee (EC) Meeting at Gaiety Theatre\, Conference Hall.\n📅 Date
 : 28 June\, 2025\n\n⏰ Time: 11:00 AM to 05:00 PM\n\n📍 Venue: Gaiety T
 heatre\, Conference Hall\, Shimla
CATEGORIES:Activity @ Conference Hall
LOCATION:Conference Hall\, Conference Hall - Gaiety Heritage Cultural Compl
 ex\, Shimla\, India
X-APPLE-STRUCTURED-LOCATION;VALUE=URI;X-ADDRESS=Conference Hall - Gaiety He
 ritage Cultural Complex\, Shimla\, India;X-APPLE-RADIUS=100;X-TITLE=Confer
 ence Hall:geo:0,0
END:VEVENT
END:VCALENDAR