BEGIN:VCALENDAR
VERSION:2.0
PRODID:-//wp-events-plugin.com//7.0.4//EN
BEGIN:VEVENT
UID:146@gaiety.in
DTSTART:20241022T120000Z
DTEND:20241024T143000Z
DTSTAMP:20241218T063119Z
URL:https://gaiety.in/app/events/shimla-sangeet-mahotsav-2024/
SUMMARY:Shimla Sangeet Mahotsav-2024
DESCRIPTION:\nतीन दिवसीय "शिमला संगीत
  महोत्सव–2024"\, 22 से 24 अक्टूबर\, 2024
 \n\n\n प्रवेश नि:शुल्क\n\n\n भाषा ए
 वं संस्कृति विभाग समय-समय पर
  साहित्यिक व सांस्कृतिक कार
 ्यक्रमों का आयोजन करवाता आ र
 हा है इसी कड़ी में विभाग द्व
 ारा दिनांक 22 से 24 अक्टूबर\, 2024 त
 क "शिमला संगीत महोत्सव–2024" का 
 आयोजन गेयटी थिएटर शिमला के ग
 ोथिक हॉल में करवाया जा रहा ह
 ै इस आयोजन में कई विश्व प्रस
 िद्ध शास्त्रीय संगीत कलाका
 र भाग लेंगे। विभाग के निदेशक
  डॉ पंकज ललित ने बताया कि इस आ
 योजन में पहले दिन दिनांक: 22 अ
 क्टूबर को अर्नव चक्रवर्ती द
 ्वारा सरोद वादन तथा मंजरी चत
 ुर्वेदी व सुश्री मीता पंडित 
 द्वारा ग्वालियर के राज दरबा
 र का सूफी कत्थक व गायन प्रस्
 तुत किया जाएगा। आयोजन के दूस
 रे दिन 23 अक्टूबर को पंडित विद
 ्याधर व्यास द्वारा गायन व इस
 के पश्चात सुनंदा शर्मा व राज
 ेंद्र प्रसन्ना द्वारा गायन 
 व बांसुरी की जुगलबंदी की प्र
 स्तुति दी जाएगी। आयोजन के अ
 ंतिम दिनांक 24 अक्टूबर को अभय 
 सोपोरी द्वारा संतूर वादन की 
 प्रस्तुति होगी व इसके पश्चा
 त वारसी भाई\, नसीर अहमद वारसी 
 व नज़ीर अहमद वारसी द्वारा पा
 रंपरिक राग में नातिया कव्वा
 ली की प्रस्तुति दी जाएगी कार
 ्यक्रम का समय प्रतिदिन सायं 
 5:30 बजे होगा।\n\n\n\n\n\n\n\nJoin us at the Shimla Music 
 Festival-2024\nA grand celebration of music and culture\, set amidst the b
 reathtaking beauty of the Himalayas.\nDate: 22nd to 24th October\, 2024\n\
 n\nVenue: Gaiety Shimla Shimla\nContact: 0177 2650-173\, 78763-12487\nEnjo
 y a mesmerizing line-up of performances by renowned artists from across th
 e country\, all within the iconic setting of the historic Gaiety Theatre.\
 n\n\nWe eagerly await your presence as we celebrate the spirit of music\, 
 art\, and unity!\n\n\n\n\n\nDate: 22nd October\, 2024\n\nFirst Show:\nTime
 : 5:30 PM\nVenue: Gothic Hall\, Gaiety Theatre\, Shimla\n\nSecond Show:\nA
  Fusion of Dance and Music\nExperience a rich tribute to the heritage cult
 ure of Gwalior with the collaboration of Manjari Chaturvedi and Meeta Pand
 it\, celebrating the music and dance that flourished under royal patronage
 .\nTime: 7:30 PM\nVenue: Gothic Hall\, Gaiety Theatre\, Shimla\n\n\n\n&nbs
 p\;
ATTACH;FMTTYPE=image/jpeg:https://i0.wp.com/gaiety.in/app/wp-content/uploa
 ds/2024/10/WhatsApp-Image-2024-10-19-at-11.16.51-AM-1-e1729336125688.jpeg?
 fit=500%2C459&ssl=1
CATEGORIES:Activity @ Old Theatre
LOCATION:Old Gothic Theater\, Old Gothic Theater-Gaiety Heritage Cultural C
 omplex Shimla\, Shimla\, India
X-APPLE-STRUCTURED-LOCATION;VALUE=URI;X-ADDRESS=Old Gothic Theater-Gaiety H
 eritage Cultural Complex Shimla\, Shimla\, India;X-APPLE-RADIUS=100;X-TITL
 E=Old Gothic Theater:geo:0,0
END:VEVENT
END:VCALENDAR