BEGIN:VCALENDAR
VERSION:2.0
PRODID:-//wp-events-plugin.com//7.0.4//EN
BEGIN:VEVENT
UID:172@gaiety.in
DTSTART;VALUE=DATE:20241225
DTEND;VALUE=DATE:20250106
DTSTAMP:20250114T113052Z
URL:https://gaiety.in/app/events/shimla-winter-carnival-2024/
SUMMARY:Shimla Winter Carnival-2024
DESCRIPTION:All  are cordially invited.
ATTACH;FMTTYPE=image/jpeg:https://i0.wp.com/gaiety.in/app/wp-content/uploa
 ds/2024/12/Winter-Carnival-1-PTI-e1733810548242.webp?fit=548%2C500&ssl=1
CATEGORIES:Activity @ Conference Hall,Activity @ Multipurpose
 Hall,Activity @ Old Theatre,Activity @ Teveran Hall
LOCATION:Multipurpose Hall\, Multipurpose Hall - Gaiety Heritage Cultural C
 omplex Shimla\, Shimla\, India
X-APPLE-STRUCTURED-LOCATION;VALUE=URI;X-ADDRESS=Multipurpose Hall - Gaiety 
 Heritage Cultural Complex Shimla\, Shimla\, India;X-APPLE-RADIUS=100;X-TIT
 LE=Multipurpose Hall:geo:0,0
END:VEVENT
END:VCALENDAR