BEGIN:VCALENDAR
VERSION:2.0
PRODID:-//wp-events-plugin.com//7.0.4//EN
BEGIN:VEVENT
UID:170@gaiety.in
DTSTART:20241214T060000Z
DTEND:20241214T073000Z
DTSTAMP:20241218T062643Z
URL:https://gaiety.in/app/events/soft-shimla/
SUMMARY:SOFT Shimla
DESCRIPTION:You're Invited: Free German Language Workshop.
ATTACH;FMTTYPE=image/jpeg:https://i0.wp.com/gaiety.in/app/wp-content/uploa
 ds/2024/12/WhatsApp-Image-2024-12-10-at-12.29.05_746454d1-e1733816203639.j
 pg?fit=500%2C500&ssl=1
CATEGORIES:Activity @ Multipurpose Hall
LOCATION:Conference Hall\, Conference Hall - Gaiety Heritage Cultural Compl
 ex\, Shimla\, India
X-APPLE-STRUCTURED-LOCATION;VALUE=URI;X-ADDRESS=Conference Hall - Gaiety He
 ritage Cultural Complex\, Shimla\, India;X-APPLE-RADIUS=100;X-TITLE=Confer
 ence Hall:geo:0,0
END:VEVENT
END:VCALENDAR