BEGIN:VCALENDAR
VERSION:2.0
PRODID:-//wp-events-plugin.com//7.0.4//EN
BEGIN:VEVENT
UID:152@gaiety.in
DTSTART:20241117T230000Z
DTEND:20241118T010000Z
DTSTAMP:20241218T062828Z
URL:https://gaiety.in/app/events/soor-sangeet-welfare-society-shimla/
SUMMARY:Soor Sangeet Welfare Society Shimla
DESCRIPTION:
ATTACH;FMTTYPE=image/jpeg:https://i0.wp.com/gaiety.in/app/wp-content/uploa
 ds/2024/11/WhatsApp-Image-2024-11-12-at-2.21.13-PM-e1731401509310.jpeg?fit
 =714%2C714&ssl=1
CATEGORIES:Activity @ Old Theatre
LOCATION:Old Gothic Theater\, Old Gothic Theater-Gaiety Heritage Cultural C
 omplex Shimla\, Shimla\, India
X-APPLE-STRUCTURED-LOCATION;VALUE=URI;X-ADDRESS=Old Gothic Theater-Gaiety H
 eritage Cultural Complex Shimla\, Shimla\, India;X-APPLE-RADIUS=100;X-TITL
 E=Old Gothic Theater:geo:0,0
END:VEVENT
END:VCALENDAR