BEGIN:VCALENDAR
VERSION:2.0
PRODID:-//wp-events-plugin.com//7.0.4//EN
BEGIN:VEVENT
UID:317@gaiety.in
DTSTART:20250709T053000Z
DTEND:20250709T103000Z
DTSTAMP:20250714T061758Z
URL:https://gaiety.in/app/events/sunil-uppadhyay-educational-trust-shimla-
 hp/
SUMMARY:Sunil Uppadhyay Educational Trust Shimla HP
DESCRIPTION:
ATTACH;FMTTYPE=image/jpeg:https://i0.wp.com/gaiety.in/app/wp-content/uploa
 ds/2025/07/silhouette-classical-kathak-dancer-background-260nw-2505013947.
 webp?fit=462%2C280&ssl=1
CATEGORIES:Activity @ Old Theatre
LOCATION:Old Gothic Theater\, Old Gothic Theater-Gaiety Heritage Cultural C
 omplex Shimla\, Shimla\, India
X-APPLE-STRUCTURED-LOCATION;VALUE=URI;X-ADDRESS=Old Gothic Theater-Gaiety H
 eritage Cultural Complex Shimla\, Shimla\, India;X-APPLE-RADIUS=100;X-TITL
 E=Old Gothic Theater:geo:0,0
END:VEVENT
END:VCALENDAR