BEGIN:VCALENDAR
VERSION:2.0
PRODID:-//wp-events-plugin.com//7.0.4//EN
BEGIN:VEVENT
UID:395@gaiety.in
DTSTART:20251209T043000Z
DTEND:20251211T113000Z
DTSTAMP:20251230T060717Z
URL:https://gaiety.in/app/events/taekwondo-association-shimla/
SUMMARY:Taekwondo Association Shimla
DESCRIPTION:You Are Cordially Invited\nJoin us for the Taekwondo Championsh
 ip & Demonstration Event!
ATTACH;FMTTYPE=image/jpeg:https://i0.wp.com/gaiety.in/app/wp-content/uploa
 ds/2025/12/WhatsApp-Image-2025-12-08-at-13.08.23_29e04503.jpg?fit=457%2C67
 6&ssl=1
CATEGORIES:Activity @ Multipurpose Hall
LOCATION:Multipurpose Hall\, Multipurpose Hall - Gaiety Heritage Cultural C
 omplex Shimla\, Shimla\, India
X-APPLE-STRUCTURED-LOCATION;VALUE=URI;X-ADDRESS=Multipurpose Hall - Gaiety 
 Heritage Cultural Complex Shimla\, Shimla\, India;X-APPLE-RADIUS=100;X-TIT
 LE=Multipurpose Hall:geo:0,0
END:VEVENT
END:VCALENDAR