BEGIN:VCALENDAR
VERSION:2.0
PRODID:-//wp-events-plugin.com//7.0.4//EN
BEGIN:VEVENT
UID:325@gaiety.in
DTSTART:20250801T093000Z
DTEND:20250801T133000Z
DTSTAMP:20250820T055704Z
URL:https://gaiety.in/app/events/the-great-himalayan-water-festival/
SUMMARY:The Great Himalayan Water Festival
DESCRIPTION:You're Invited!\n\nJoin us for The Great Himalayan Water Festiv
 al – a celebration of Himalayan heritage\, sustainability\, and soulful 
 performances!\n\nFeaturing the premiere of "The Last Drop" – a Trans-Him
 alayan film on Virtual Water.\nWith appearances by top social media influe
 ncers & a soulful live performance by Abhigya The Band!\n\nDate: Friday\, 
 1st August 2025\nTime: 3:00 PM – 7:00 PM\nVenue: Gaiety Theatre\, Shimla
  (H.P.)\n\nBook Now and be part of a powerful movement for water awareness
 !\nCall us: +91-9418109999
ATTACH;FMTTYPE=image/jpeg:https://i0.wp.com/gaiety.in/app/wp-content/uploa
 ds/2025/07/8x4-Water-Festival-Hor-Poster-scaled-e1753682928898.png?fit=131
 8%2C1114&ssl=1
CATEGORIES:Activity @ Multipurpose Hall
LOCATION:Multipurpose Hall\, Multipurpose Hall - Gaiety Heritage Cultural C
 omplex Shimla\, Shimla\, India
X-APPLE-STRUCTURED-LOCATION;VALUE=URI;X-ADDRESS=Multipurpose Hall - Gaiety 
 Heritage Cultural Complex Shimla\, Shimla\, India;X-APPLE-RADIUS=100;X-TIT
 LE=Multipurpose Hall:geo:0,0
END:VEVENT
END:VCALENDAR