BEGIN:VCALENDAR
VERSION:2.0
PRODID:-//wp-events-plugin.com//7.0.4//EN
BEGIN:VEVENT
UID:362@gaiety.in
DTSTART:20251024T053000Z
DTEND:20251102T140000Z
DTSTAMP:20251110T055241Z
URL:https://gaiety.in/app/events/the-manali-artisan-welfare-federation-is-
 organizing-a-handloom-handicraft-exhibition/
SUMMARY:The Manali Artisan Welfare Federation is organizing a Handloom & Ha
 ndicraft Exhibition
DESCRIPTION:
ATTACH;FMTTYPE=image/jpeg:https://i0.wp.com/gaiety.in/app/wp-content/uploa
 ds/2025/01/1-9-scaled.jpeg?fit=2560%2C1144&ssl=1
CATEGORIES:Activity @ Multipurpose Hall
LOCATION:Multipurpose Hall\, Multipurpose Hall - Gaiety Heritage Cultural C
 omplex Shimla\, Shimla\, India
X-APPLE-STRUCTURED-LOCATION;VALUE=URI;X-ADDRESS=Multipurpose Hall - Gaiety 
 Heritage Cultural Complex Shimla\, Shimla\, India;X-APPLE-RADIUS=100;X-TIT
 LE=Multipurpose Hall:geo:0,0
END:VEVENT
END:VCALENDAR